BEGIN:VCALENDAR
VERSION:2.0
PRODID:-//Kenya Young Parliamentarians Association - ECPv6.5.0.1//NONSGML v1.0//EN
CALSCALE:GREGORIAN
METHOD:PUBLISH
X-WR-CALNAME:Kenya Young Parliamentarians Association
X-ORIGINAL-URL:https://kypassociation.org
X-WR-CALDESC:Events for Kenya Young Parliamentarians Association
REFRESH-INTERVAL;VALUE=DURATION:PT1H
X-Robots-Tag:noindex
X-PUBLISHED-TTL:PT1H
BEGIN:VTIMEZONE
TZID:UTC
BEGIN:STANDARD
TZOFFSETFROM:+0000
TZOFFSETTO:+0000
TZNAME:UTC
DTSTART:20170101T000000
END:STANDARD
END:VTIMEZONE
BEGIN:VEVENT
DTSTART;TZID=UTC:20210104T080000
DTEND;TZID=UTC:20211217T170000
DTSTAMP:20260422T014840
CREATED:20210322T121527Z
LAST-MODIFIED:20240522T123817Z
UID:6433-1609747200-1639760400@kypassociation.org
SUMMARY:Young MCAs Leadership Fellowship Program:
DESCRIPTION:
URL:https://kypassociation.org/event/young-mcas-leadership-fellowship-program/
CATEGORIES:Training
ATTACH;FMTTYPE=image/jpeg:https://kypassociation.org/wp-content/uploads/2024/05/WhatsApp-Image-2024-05-08-at-16.27.00-1.jpeg
END:VEVENT
BEGIN:VEVENT
DTSTART;VALUE=DATE:20170404
DTEND;VALUE=DATE:20170406
DTSTAMP:20260422T014841
CREATED:20170322T122202Z
LAST-MODIFIED:20240522T124048Z
UID:6438-1491264000-1491436799@kypassociation.org
SUMMARY:Induction of Young Members of Parliament
DESCRIPTION:
URL:https://kypassociation.org/event/induction-of-young-members-of-parliament/
LOCATION:Nairobi\, Kenya\, Nairobi\, NAIROBI\, 00100\, Kenya
CATEGORIES:Training
ATTACH;FMTTYPE=image/jpeg:https://kypassociation.org/wp-content/uploads/2024/05/WhatsApp-Image-2024-05-08-at-16.27.19-1.jpeg
END:VEVENT
END:VCALENDAR